BEGIN:VCALENDAR
VERSION:2.0
PRODID:-//VVS Föreningen i Finland - ECPv6.15.20//NONSGML v1.0//EN
CALSCALE:GREGORIAN
METHOD:PUBLISH
X-ORIGINAL-URL:https://www.vvsfinland.fi
X-WR-CALDESC:Händelser för VVS Föreningen i Finland
REFRESH-INTERVAL;VALUE=DURATION:PT1H
X-Robots-Tag:noindex
X-PUBLISHED-TTL:PT1H
BEGIN:VTIMEZONE
TZID:Europe/Helsinki
BEGIN:DAYLIGHT
TZOFFSETFROM:+0200
TZOFFSETTO:+0300
TZNAME:EEST
DTSTART:20220327T010000
END:DAYLIGHT
BEGIN:STANDARD
TZOFFSETFROM:+0300
TZOFFSETTO:+0200
TZNAME:EET
DTSTART:20221030T010000
END:STANDARD
BEGIN:DAYLIGHT
TZOFFSETFROM:+0200
TZOFFSETTO:+0300
TZNAME:EEST
DTSTART:20230326T010000
END:DAYLIGHT
BEGIN:STANDARD
TZOFFSETFROM:+0300
TZOFFSETTO:+0200
TZNAME:EET
DTSTART:20231029T010000
END:STANDARD
BEGIN:DAYLIGHT
TZOFFSETFROM:+0200
TZOFFSETTO:+0300
TZNAME:EEST
DTSTART:20240331T010000
END:DAYLIGHT
BEGIN:STANDARD
TZOFFSETFROM:+0300
TZOFFSETTO:+0200
TZNAME:EET
DTSTART:20241027T010000
END:STANDARD
END:VTIMEZONE
BEGIN:VEVENT
DTSTART;TZID=Europe/Helsinki:20230817T160000
DTEND;TZID=Europe/Helsinki:20230817T173000
DTSTAMP:20260422T074704
CREATED:20230809T121316Z
LAST-MODIFIED:20230809T121957Z
UID:4088-1692288000-1692293400@www.vvsfinland.fi
SUMMARY:VSF afterwork & info online
DESCRIPTION:Häng med på föreningens afterwork & info online\, som arrangeras en gång i månaden. \nTorsdagen 17 augusti  berättar Mats Sundqvist från OPTIMA åt oss om lärande i arbetslivet / läroavtal. Vi får höra hur det hela fungerar och vad som krävs av företaget. \nEfteråt har du möjlighet att dela erfarenheter med andra medlemmar. \nHjärtligt välkommen! \n  \nAnmäl dig till info@vvsfinland.fi\, så får du en kalenderinbjudan med Teams-länk.
URL:https://www.vvsfinland.fi/event/vsf-afterwork-info-online-13/
LOCATION:Online (Microsoft Teams)
CATEGORIES:VSF evenemang
ATTACH;FMTTYPE=image/png:https://www.vvsfinland.fi/wp-content/uploads/2023/08/VSF_AW_H2023_kort.png
ORGANIZER;CN="VSF":MAILTO:info@vvsfinland.fi
END:VEVENT
END:VCALENDAR