BEGIN:VCALENDAR
VERSION:2.0
PRODID:-//VVS Föreningen i Finland - ECPv6.15.20//NONSGML v1.0//EN
CALSCALE:GREGORIAN
METHOD:PUBLISH
X-WR-CALNAME:VVS Föreningen i Finland
X-ORIGINAL-URL:https://www.vvsfinland.fi
X-WR-CALDESC:Händelser för VVS Föreningen i Finland
REFRESH-INTERVAL;VALUE=DURATION:PT1H
X-Robots-Tag:noindex
X-PUBLISHED-TTL:PT1H
BEGIN:VTIMEZONE
TZID:Europe/Helsinki
BEGIN:DAYLIGHT
TZOFFSETFROM:+0200
TZOFFSETTO:+0300
TZNAME:EEST
DTSTART:20230326T010000
END:DAYLIGHT
BEGIN:STANDARD
TZOFFSETFROM:+0300
TZOFFSETTO:+0200
TZNAME:EET
DTSTART:20231029T010000
END:STANDARD
BEGIN:DAYLIGHT
TZOFFSETFROM:+0200
TZOFFSETTO:+0300
TZNAME:EEST
DTSTART:20240331T010000
END:DAYLIGHT
BEGIN:STANDARD
TZOFFSETFROM:+0300
TZOFFSETTO:+0200
TZNAME:EET
DTSTART:20241027T010000
END:STANDARD
BEGIN:DAYLIGHT
TZOFFSETFROM:+0200
TZOFFSETTO:+0300
TZNAME:EEST
DTSTART:20250330T010000
END:DAYLIGHT
BEGIN:STANDARD
TZOFFSETFROM:+0300
TZOFFSETTO:+0200
TZNAME:EET
DTSTART:20251026T010000
END:STANDARD
END:VTIMEZONE
BEGIN:VEVENT
DTSTART;TZID=Europe/Helsinki:20240111T160000
DTEND;TZID=Europe/Helsinki:20240111T173000
DTSTAMP:20260421T220201
CREATED:20240102T143819Z
LAST-MODIFIED:20240102T144227Z
UID:4428-1704988800-1704994200@www.vvsfinland.fi
SUMMARY:VSF Afterwork & info online - olika givare i småhusventilationen
DESCRIPTION:På VSF Afterwork & info online torsdag 11.1 kl.16.00 berättar Patrik Flöjt om olika givare i småhusventilationen. \nKom med och diskutera aktuellt och dela erfarenheter med andra medlemmar.\nVi avslutar träffen klockan 17.30. \nAlla medlemmar får Teams-länken sänd till sin e-post dagen innan. \nHjärtligt välkommen med!
URL:https://www.vvsfinland.fi/event/vsf-afterwork-info-online-olika-givare-i-smahusventilationen/
LOCATION:Online (Microsoft Teams)
CATEGORIES:VSF evenemang
ORGANIZER;CN="VSF":MAILTO:info@vvsfinland.fi
END:VEVENT
BEGIN:VEVENT
DTSTART;TZID=Europe/Helsinki:20240118T170000
DTEND;TZID=Europe/Helsinki:20240118T190000
DTSTAMP:20260421T220201
CREATED:20231109T114847Z
LAST-MODIFIED:20231109T115036Z
UID:4331-1705597200-1705604400@www.vvsfinland.fi
SUMMARY:VSF centralstyrelsemöte 1/24
DESCRIPTION:Föreningens styrelse samlas till möte. Om det är någonting du vill att styrelsen skall behandla får du gärna sända e-post till info@vvsfinland.fi.
URL:https://www.vvsfinland.fi/event/vsf-centralstyrelsemote-1-24/
CATEGORIES:VSF evenemang
END:VEVENT
BEGIN:VEVENT
DTSTART;TZID=Europe/Helsinki:20240125T190000
DTEND;TZID=Europe/Helsinki:20240125T220000
DTSTAMP:20260421T220201
CREATED:20240110T130522Z
LAST-MODIFIED:20240110T130522Z
UID:4456-1706209200-1706220000@www.vvsfinland.fi
SUMMARY:Vasa årsmöte 2024
DESCRIPTION:Vasa medlemmar samlas till\nårsmöte torsdag 25.1.2024 klockan 19.00\npå Restaurang Central (Hovrättsesplanaden 21\, Vasa). \nKvällens värd är Taina Iloviita från Vallox Oy.  \nDu behöver inte anmäla dig\, det är bara att komma på plats. \nVälkommen!
URL:https://www.vvsfinland.fi/event/vasa-arsmote-2024/
LOCATION:Restaurang Central Vasa\, Hovrättsesplanaden 21\, Vasa\, 65100
CATEGORIES:VSF evenemang
ORGANIZER;CN="VSF":MAILTO:info@vvsfinland.fi
END:VEVENT
BEGIN:VEVENT
DTSTART;TZID=Europe/Helsinki:20240126T170000
DTEND;TZID=Europe/Helsinki:20240126T200000
DTSTAMP:20260421T220201
CREATED:20231208T111210Z
LAST-MODIFIED:20231208T113246Z
UID:4384-1706288400-1706299200@www.vvsfinland.fi
SUMMARY:VSF Västnylands besök till Chappe & middag
DESCRIPTION:VSF Västnyland startar 2024 med ett gemensamt besök till Chappe i Ekenäs fredag 26.1.2024 kl. 17.00. Muséet är bokat endast för oss\, vi har en guidad tur på 30 min. \nEfter museibesöket avnjuter vi gemensam middag på Ekta bryggeri. \nAlla medlemmar avec är varmt välkomna. \n  \nPris\n30 euro/person betalas vid anmälningen. Avgiften inkluderar museibesök och middag\, dryckerna betalar man på plats. \n  \nAnmälning\nAnmäl dig senast 15.1.2024. \n Anmäl dig här\n  \nRobin Gottberg (044-776 6801) svarar gärna på eventuella frågor.
URL:https://www.vvsfinland.fi/event/vsf-vastnylands-besok-till-chappe-middag/
LOCATION:Chappe\, Gustav Wasas gata 11\, EKENÄS\, 10600\, Finland
CATEGORIES:VSF evenemang
ATTACH;FMTTYPE=image/png:https://www.vvsfinland.fi/wp-content/uploads/2023/12/chappe-animation-craft-rituals-main-page-sv.png
ORGANIZER;CN="VSF":MAILTO:info@vvsfinland.fi
END:VEVENT
END:VCALENDAR